DatasetHeader Begin
	Version	= "5.2"
	DataSetType	= ERStorage
	DataType	= Raster
	ByteOrder	= MSBFirst
	CoordinateSpace Begin
		Datum	= "WGS84"
		Projection	= "GEODETIC"
		CoordinateType	= LL
		Rotation	= 0:0:0.0
	CoordinateSpace End
	RasterInfo Begin
		CellType	= Unsigned16BitInteger
		NullCellValue	= +9999
		CellInfo Begin
			Xdimension	= 0.008333333333333333
			Ydimension	= 0.008333333333333333
		CellInfo End
		NrOfCellsPerLine	= 4800
		NrOfLines	= 6000
		RegistrationCellX	= 1
		RegistrationCellY	= 1
		NrOfBands	= 1
		BandId Begin
			Value	= "Topography"
			Units	= "meters"
		BandId End
		RegistrationCoord Begin
			Latitude	= 90:00:00.000
			Longitude	= -140:00:00.000
		RegistrationCoord End
		NrOfBands	= 1
	RasterInfo End
DatasetHeader End
